Package: rqt Version: 1.35.0 Command: /home/biocbuild/bbs-3.22-bioc/R/bin/R CMD INSTALL rqt StartedAt: 2025-10-06 15:21:32 -0400 (Mon, 06 Oct 2025) EndedAt: 2025-10-06 15:21:59 -0400 (Mon, 06 Oct 2025) EllapsedTime: 26.6 seconds RetCode: 0 Status: OK