Package: rqt Version: 1.33.0 Command: /home/biocbuild/bbs-3.21-bioc/R/bin/R CMD check --install=check:rqt.install-out.txt --library=/home/biocbuild/bbs-3.21-bioc/R/site-library --timings rqt_1.33.0.tar.gz StartedAt: 2025-02-03 01:56:46 -0500 (Mon, 03 Feb 2025) EndedAt: 2025-02-03 01:59:54 -0500 (Mon, 03 Feb 2025) EllapsedTime: 187.4 seconds RetCode: 0 Status: OK CheckDir: rqt.Rcheck Warnings: 0