Package: rqt Version: 1.35.0 Command: /Library/Frameworks/R.framework/Resources/bin/R CMD build --keep-empty-dirs --no-resave-data rqt StartedAt: 2025-05-01 18:11:00 -0400 (Thu, 01 May 2025) EndedAt: 2025-05-01 18:11:51 -0400 (Thu, 01 May 2025) EllapsedTime: 51.4 seconds RetCode: 0 Status: OK PackageFile: rqt_1.35.0.tar.gz PackageFileSize: 541.2 KiB