Package: rqt Version: 1.35.0 Command: /Library/Frameworks/R.framework/Resources/bin/R CMD check --install=check:rqt.install-out.txt --library=/Library/Frameworks/R.framework/Resources/library --no-vignettes --timings rqt_1.35.0.tar.gz StartedAt: 2025-05-02 21:26:16 -0400 (Fri, 02 May 2025) EndedAt: 2025-05-02 21:27:32 -0400 (Fri, 02 May 2025) EllapsedTime: 76.1 seconds RetCode: 0 Status: OK CheckDir: rqt.Rcheck Warnings: 0