Package: rqt Version: 1.35.0 Command: rm -rf rqt.buildbin-libdir && mkdir rqt.buildbin-libdir && /Users/biocbuild/BBS/utils/build-universal.sh rqt_1.35.0.tar.gz /Library/Frameworks/R.framework/Resources/bin/R rqt.buildbin-libdir StartedAt: 2025-05-02 22:51:53 -0400 (Fri, 02 May 2025) EndedAt: 2025-05-02 22:52:06 -0400 (Fri, 02 May 2025) EllapsedTime: 13.2 seconds RetCode: 0 Status: OK PackageFile: rqt_1.35.0.tgz PackageFileSize: 910.6 KiB