Package: rpx Version: 2.17.0 Command: /home/biocbuild/bbs-3.22-bioc/R/bin/R CMD INSTALL rpx StartedAt: 2025-10-09 15:11:32 -0400 (Thu, 09 Oct 2025) EndedAt: 2025-10-09 15:11:37 -0400 (Thu, 09 Oct 2025) EllapsedTime: 5.6 seconds RetCode: 0 Status: OK