Package: rpx Version: 2.17.0 Command: /home/biocbuild/bbs-3.22-bioc/R/bin/R CMD build --keep-empty-dirs --no-resave-data --md5 rpx StartedAt: 2025-10-09 19:47:23 -0400 (Thu, 09 Oct 2025) EndedAt: 2025-10-09 19:47:37 -0400 (Thu, 09 Oct 2025) EllapsedTime: 14.0 seconds RetCode: 0 Status: OK PackageFile: rpx_2.17.0.tar.gz PackageFileSize: 317.5 KiB