Package: rpx Version: 2.17.0 Command: /Library/Frameworks/R.framework/Resources/bin/R CMD build --keep-empty-dirs --no-resave-data rpx StartedAt: 2025-05-22 18:06:32 -0400 (Thu, 22 May 2025) EndedAt: 2025-05-22 18:06:51 -0400 (Thu, 22 May 2025) EllapsedTime: 19.5 seconds RetCode: 0 Status: OK PackageFile: rpx_2.17.0.tar.gz PackageFileSize: 316.7 KiB