Package: rprimer Version: 1.11.0 Command: E:\biocbuild\bbs-3.21-bioc\R\bin\R.exe CMD check --no-multiarch --install=check:rprimer.install-out.txt --library=E:\biocbuild\bbs-3.21-bioc\R\library --no-vignettes --timings rprimer_1.11.0.tar.gz StartedAt: 2025-02-20 04:52:30 -0500 (Thu, 20 Feb 2025) EndedAt: 2025-02-20 04:56:07 -0500 (Thu, 20 Feb 2025) EllapsedTime: 216.2 seconds RetCode: 0 Status: OK CheckDir: rprimer.Rcheck Warnings: 0