Package: rprimer Version: 1.11.0 Command: rm -rf rprimer.buildbin-libdir && mkdir rprimer.buildbin-libdir && E:\biocbuild\bbs-3.21-bioc\R\bin\R.exe CMD INSTALL --build --library=rprimer.buildbin-libdir rprimer_1.11.0.tar.gz StartedAt: 2025-02-20 08:37:53 -0500 (Thu, 20 Feb 2025) EndedAt: 2025-02-20 08:39:02 -0500 (Thu, 20 Feb 2025) EllapsedTime: 68.8 seconds RetCode: 0 Status: OK PackageFile: rprimer_1.11.0.zip PackageFileSize: 1.652 MiB