Package: rprimer Version: 1.13.0 Maintainer: Sofia Persson MaintainerEmail: sofiapersson27 at gmail.com git_url: https://git.bioconductor.org/packages/rprimer git_branch: devel git_last_commit: a2f93f2 git_last_commit_date: 2025-04-15 12:43:17 -0400 (Tue, 15 Apr 2025)