Package: rols Version: 3.5.0 Command: /home/biocbuild/bbs-3.22-bioc/R/bin/R CMD INSTALL rols StartedAt: 2025-10-17 15:13:24 -0400 (Fri, 17 Oct 2025) EndedAt: 2025-10-17 15:13:29 -0400 (Fri, 17 Oct 2025) EllapsedTime: 4.9 seconds RetCode: 0 Status: OK