Package: rols Version: 3.5.0 Command: /home/biocbuild/bbs-3.22-bioc/R/bin/R CMD build --keep-empty-dirs --no-resave-data --md5 rols StartedAt: 2025-10-17 19:40:33 -0400 (Fri, 17 Oct 2025) EndedAt: 2025-10-17 19:40:44 -0400 (Fri, 17 Oct 2025) EllapsedTime: 11.0 seconds RetCode: 1 Status: ERROR PackageFile: None PackageFileSize: NA