Package: roastgsa Version: 1.5.0 Command: /home/biocbuild/R/R/bin/R CMD build --keep-empty-dirs --no-resave-data roastgsa StartedAt: 2025-01-29 01:49:50 -0000 (Wed, 29 Jan 2025) EndedAt: 2025-01-29 01:52:08 -0000 (Wed, 29 Jan 2025) EllapsedTime: 138.1 seconds RetCode: 0 Status: OK PackageFile: roastgsa_1.5.0.tar.gz PackageFileSize: 1.47 MiB