Package: roastgsa Version: 1.7.0 Maintainer: Adria Caballe MaintainerEmail: adria.caballe at irbbarcelona.org git_url: https://git.bioconductor.org/packages/roastgsa git_branch: devel git_last_commit: c4f9bb7 git_last_commit_date: 2025-04-15 13:19:17 -0400 (Tue, 15 Apr 2025)