Package: roar Version: 1.43.0 Command: /Library/Frameworks/R.framework/Resources/bin/R CMD build --keep-empty-dirs --no-resave-data roar StartedAt: 2025-02-16 17:21:12 -0500 (Sun, 16 Feb 2025) EndedAt: 2025-02-16 17:21:53 -0500 (Sun, 16 Feb 2025) EllapsedTime: 41.4 seconds RetCode: 0 Status: OK PackageFile: roar_1.43.0.tar.gz PackageFileSize: 901.7 KiB