Package: rnaEditr Version: 1.19.2 Command: rm -rf rnaEditr.buildbin-libdir && mkdir rnaEditr.buildbin-libdir && F:\biocbuild\bbs-3.22-bioc\R\bin\R.exe CMD INSTALL --build --library=rnaEditr.buildbin-libdir rnaEditr_1.19.2.tar.gz StartedAt: 2025-08-15 11:09:28 -0400 (Fri, 15 Aug 2025) EndedAt: 2025-08-15 11:10:20 -0400 (Fri, 15 Aug 2025) EllapsedTime: 51.2 seconds RetCode: 0 Status: OK PackageFile: rnaEditr_1.19.2.zip PackageFileSize: 1.016 MiB