Package: rmspc Version: 1.15.0 Command: chmod a+r rmspc -R && F:\biocbuild\bbs-3.22-bioc\R\bin\R.exe CMD build --keep-empty-dirs --no-resave-data rmspc StartedAt: 2025-08-14 22:48:46 -0400 (Thu, 14 Aug 2025) EndedAt: 2025-08-14 22:49:58 -0400 (Thu, 14 Aug 2025) EllapsedTime: 71.9 seconds RetCode: 0 Status: OK PackageFile: rmspc_1.15.0.tar.gz PackageFileSize: 2.177 MiB