Package: rmspc Version: 1.15.0 Command: rm -rf rmspc.buildbin-libdir && mkdir rmspc.buildbin-libdir && F:\biocbuild\bbs-3.22-bioc\R\bin\R.exe CMD INSTALL --build --library=rmspc.buildbin-libdir rmspc_1.15.0.tar.gz StartedAt: 2025-08-15 11:09:21 -0400 (Fri, 15 Aug 2025) EndedAt: 2025-08-15 11:09:59 -0400 (Fri, 15 Aug 2025) EllapsedTime: 38.9 seconds RetCode: 0 Status: OK PackageFile: rmspc_1.15.0.zip PackageFileSize: 2.189 MiB