Package: rmspc Version: 1.13.0 Command: /Library/Frameworks/R.framework/Resources/bin/R CMD INSTALL rmspc StartedAt: 2025-02-16 15:19:55 -0500 (Sun, 16 Feb 2025) EndedAt: 2025-02-16 15:20:33 -0500 (Sun, 16 Feb 2025) EllapsedTime: 38.0 seconds RetCode: 0 Status: OK