Package: rmelting Version: 1.23.0 Command: E:\biocbuild\bbs-3.21-bioc\R\bin\R.exe CMD check --no-multiarch --install=check:rmelting.install-out.txt --library=E:\biocbuild\bbs-3.21-bioc\R\library --no-vignettes --timings rmelting_1.23.0.tar.gz StartedAt: 2025-02-04 05:12:13 -0500 (Tue, 04 Feb 2025) EndedAt: 2025-02-04 05:13:09 -0500 (Tue, 04 Feb 2025) EllapsedTime: 56.2 seconds RetCode: 0 Status: OK CheckDir: rmelting.Rcheck Warnings: 0