Package: rmelting Version: 1.25.0 Command: /home/biocbuild/bbs-3.22-bioc/R/bin/R CMD INSTALL rmelting StartedAt: 2025-10-03 15:02:51 -0400 (Fri, 03 Oct 2025) EndedAt: 2025-10-03 15:03:10 -0400 (Fri, 03 Oct 2025) EllapsedTime: 19.2 seconds RetCode: 0 Status: OK