Package: rmelting Version: 1.25.0 Command: /home/biocbuild/bbs-3.22-bioc/R/bin/R CMD build --keep-empty-dirs --no-resave-data --md5 rmelting StartedAt: 2025-10-03 19:38:18 -0400 (Fri, 03 Oct 2025) EndedAt: 2025-10-03 19:38:42 -0400 (Fri, 03 Oct 2025) EllapsedTime: 24.0 seconds RetCode: 0 Status: OK PackageFile: rmelting_1.25.0.tar.gz PackageFileSize: 2.494 MiB