Package: rmelting Version: 1.25.0 Command: /Library/Frameworks/R.framework/Resources/bin/R CMD check --install=check:rmelting.install-out.txt --library=/Library/Frameworks/R.framework/Resources/library --no-vignettes --timings rmelting_1.25.0.tar.gz StartedAt: 2025-05-09 21:24:30 -0400 (Fri, 09 May 2025) EndedAt: 2025-05-09 21:24:49 -0400 (Fri, 09 May 2025) EllapsedTime: 19.3 seconds RetCode: 0 Status: OK CheckDir: rmelting.Rcheck Warnings: 0