Package: rigvf Version: 1.1.3 Command: /home/biocbuild/bbs-3.22-bioc/R/bin/R CMD INSTALL rigvf StartedAt: 2025-10-02 15:16:04 -0400 (Thu, 02 Oct 2025) EndedAt: 2025-10-02 15:16:15 -0400 (Thu, 02 Oct 2025) EllapsedTime: 10.5 seconds RetCode: 0 Status: OK