Package: rigvf Version: 1.3.3 Command: /home/biocbuild/bbs-3.23-bioc/R/bin/R CMD INSTALL rigvf StartedAt: 2025-11-23 15:16:27 -0500 (Sun, 23 Nov 2025) EndedAt: 2025-11-23 15:16:37 -0500 (Sun, 23 Nov 2025) EllapsedTime: 9.9 seconds RetCode: 0 Status: OK