Package: rigvf Version: 1.3.3 Command: /home/biocbuild/bbs-3.23-bioc/R/bin/R CMD build --keep-empty-dirs --no-resave-data rigvf StartedAt: 2025-11-21 19:39:46 -0500 (Fri, 21 Nov 2025) EndedAt: 2025-11-21 19:40:19 -0500 (Fri, 21 Nov 2025) EllapsedTime: 33.0 seconds RetCode: 0 Status: OK PackageFile: rigvf_1.3.3.tar.gz PackageFileSize: 210.2 KiB