Package: rigvf Version: 1.3.3 Command: /Library/Frameworks/R.framework/Resources/bin/R CMD INSTALL rigvf StartedAt: 2025-11-21 15:21:49 -0500 (Fri, 21 Nov 2025) EndedAt: 2025-11-21 15:22:04 -0500 (Fri, 21 Nov 2025) EllapsedTime: 15.1 seconds RetCode: 0 Status: OK