Package: rigvf Version: 1.3.3 Command: /Library/Frameworks/R.framework/Resources/bin/R CMD build --keep-empty-dirs --no-resave-data rigvf StartedAt: 2025-11-21 18:25:17 -0500 (Fri, 21 Nov 2025) EndedAt: 2025-11-21 18:25:52 -0500 (Fri, 21 Nov 2025) EllapsedTime: 35.5 seconds RetCode: 0 Status: OK PackageFile: rigvf_1.3.3.tar.gz PackageFileSize: 214.3 KiB