Package: rigvf Version: 1.1.3 Command: /Library/Frameworks/R.framework/Resources/bin/R CMD INSTALL rigvf StartedAt: 2025-10-28 15:10:47 -0400 (Tue, 28 Oct 2025) EndedAt: 2025-10-28 15:10:52 -0400 (Tue, 28 Oct 2025) EllapsedTime: 4.7 seconds RetCode: 0 Status: OK