Package: rigvf Version: 1.1.3 Command: /Library/Frameworks/R.framework/Resources/bin/R CMD build --keep-empty-dirs --no-resave-data rigvf StartedAt: 2025-10-28 17:30:41 -0400 (Tue, 28 Oct 2025) EndedAt: 2025-10-28 17:30:57 -0400 (Tue, 28 Oct 2025) EllapsedTime: 16.2 seconds RetCode: 0 Status: OK PackageFile: rigvf_1.1.3.tar.gz PackageFileSize: 214.2 KiB