Package: rigvf Version: 1.1.3 Command: rm -rf rigvf.buildbin-libdir && mkdir rigvf.buildbin-libdir && /Users/biocbuild/BBS/utils/build-universal.sh rigvf_1.1.3.tar.gz /Library/Frameworks/R.framework/Resources/bin/R rigvf.buildbin-libdir StartedAt: 2025-10-28 23:13:16 -0400 (Tue, 28 Oct 2025) EndedAt: 2025-10-28 23:13:21 -0400 (Tue, 28 Oct 2025) EllapsedTime: 5.1 seconds RetCode: 0 Status: OK PackageFile: rigvf_1.1.3.tgz PackageFileSize: 240.5 KiB