Package: rifiComparative Version: 1.9.0 Command: /Library/Frameworks/R.framework/Resources/bin/R CMD build --keep-empty-dirs --no-resave-data rifiComparative StartedAt: 2025-05-20 18:03:16 -0400 (Tue, 20 May 2025) EndedAt: 2025-05-20 18:11:24 -0400 (Tue, 20 May 2025) EllapsedTime: 488.1 seconds RetCode: 0 Status: OK PackageFile: rifiComparative_1.9.0.tar.gz PackageFileSize: 3.149 MiB