Package: rifiComparative Version: 1.9.0 Command: rm -rf rifiComparative.buildbin-libdir && mkdir rifiComparative.buildbin-libdir && /Users/biocbuild/BBS/utils/build-universal.sh rifiComparative_1.9.0.tar.gz /Library/Frameworks/R.framework/Resources/bin/R rifiComparative.buildbin-libdir StartedAt: 2025-05-21 00:47:19 -0400 (Wed, 21 May 2025) EndedAt: 2025-05-21 00:48:08 -0400 (Wed, 21 May 2025) EllapsedTime: 49.4 seconds RetCode: 0 Status: OK PackageFile: rifiComparative_1.9.0.tgz PackageFileSize: 2.436 MiB