Package: rifi Version: 1.11.0 Command: /home/biocbuild/bbs-3.21-bioc/R/bin/R CMD INSTALL rifi StartedAt: 2025-02-04 15:25:10 -0500 (Tue, 04 Feb 2025) EndedAt: 2025-02-04 15:25:48 -0500 (Tue, 04 Feb 2025) EllapsedTime: 38.1 seconds RetCode: 0 Status: OK