Package: rifi Version: 1.11.0 Command: /Library/Frameworks/R.framework/Resources/bin/R CMD check --install=check:rifi.install-out.txt --library=/Library/Frameworks/R.framework/Resources/library --no-vignettes --timings rifi_1.11.0.tar.gz StartedAt: 2025-02-04 22:49:12 -0500 (Tue, 04 Feb 2025) EndedAt: 2025-02-04 22:59:53 -0500 (Tue, 04 Feb 2025) EllapsedTime: 641.1 seconds RetCode: 0 Status: WARNINGS CheckDir: rifi.Rcheck Warnings: 2