Package: rifi Version: 1.11.0 Command: /Library/Frameworks/R.framework/Resources/bin/R CMD build --keep-empty-dirs --no-resave-data rifi StartedAt: 2025-02-04 18:03:20 -0500 (Tue, 04 Feb 2025) EndedAt: 2025-02-04 18:05:02 -0500 (Tue, 04 Feb 2025) EllapsedTime: 101.7 seconds RetCode: 0 Status: OK PackageFile: rifi_1.11.0.tar.gz PackageFileSize: 7.197 MiB