Package: rifi Version: 1.11.0 Command: /Library/Frameworks/R.framework/Resources/bin/R CMD build --keep-empty-dirs --no-resave-data rifi StartedAt: 2025-02-12 17:25:01 -0500 (Wed, 12 Feb 2025) EndedAt: 2025-02-12 17:25:35 -0500 (Wed, 12 Feb 2025) EllapsedTime: 34.4 seconds RetCode: 0 Status: OK PackageFile: rifi_1.11.0.tar.gz PackageFileSize: 7.197 MiB