Package: ribosomeProfilingQC Version: 1.21.2 Command: rm -rf ribosomeProfilingQC.buildbin-libdir && mkdir ribosomeProfilingQC.buildbin-libdir && F:\biocbuild\bbs-3.22-bioc\R\bin\R.exe CMD INSTALL --build --library=ribosomeProfilingQC.buildbin-libdir ribosomeProfilingQC_1.21.2.tar.gz StartedAt: 2025-08-15 11:08:34 -0400 (Fri, 15 Aug 2025) EndedAt: 2025-08-15 11:12:33 -0400 (Fri, 15 Aug 2025) EllapsedTime: 238.2 seconds RetCode: 0 Status: OK PackageFile: ribosomeProfilingQC_1.21.2.zip PackageFileSize: 3.029 MiB