Package: ribosomeProfilingQC Version: 1.19.2 Command: /Library/Frameworks/R.framework/Resources/bin/R CMD check --install=check:ribosomeProfilingQC.install-out.txt --library=/Library/Frameworks/R.framework/Resources/library --no-vignettes --timings ribosomeProfilingQC_1.19.2.tar.gz StartedAt: 2025-02-16 20:56:58 -0500 (Sun, 16 Feb 2025) EndedAt: 2025-02-16 21:00:10 -0500 (Sun, 16 Feb 2025) EllapsedTime: 192.2 seconds RetCode: 0 Status: OK CheckDir: ribosomeProfilingQC.Rcheck Warnings: 0