Package: ribor Version: 1.21.0 Command: chmod a+r ribor -R && F:\biocbuild\bbs-3.22-bioc\R\bin\R.exe CMD build --keep-empty-dirs --no-resave-data ribor StartedAt: 2025-08-14 22:47:06 -0400 (Thu, 14 Aug 2025) EndedAt: 2025-08-14 22:49:05 -0400 (Thu, 14 Aug 2025) EllapsedTime: 119.0 seconds RetCode: 0 Status: OK PackageFile: ribor_1.21.0.tar.gz PackageFileSize: 3.903 MiB