Package: ribor Version: 1.23.0 Command: /Library/Frameworks/R.framework/Resources/bin/R CMD build --keep-empty-dirs --no-resave-data ribor StartedAt: 2025-11-27 17:29:58 -0500 (Thu, 27 Nov 2025) EndedAt: 2025-11-27 17:30:29 -0500 (Thu, 27 Nov 2025) EllapsedTime: 31.3 seconds RetCode: 0 Status: OK PackageFile: ribor_1.23.0.tar.gz PackageFileSize: 4.616 MiB