Package: ribor Version: 1.23.0 Command: rm -rf ribor.buildbin-libdir && mkdir ribor.buildbin-libdir && /Users/biocbuild/BBS/utils/build-universal.sh ribor_1.23.0.tar.gz /Library/Frameworks/R.framework/Resources/bin/R ribor.buildbin-libdir StartedAt: 2025-11-28 00:00:58 -0500 (Fri, 28 Nov 2025) EndedAt: 2025-11-28 00:01:04 -0500 (Fri, 28 Nov 2025) EllapsedTime: 6.1 seconds RetCode: 0 Status: OK PackageFile: ribor_1.23.0.tgz PackageFileSize: 4.818 MiB