Package: riboSeqR Version: 1.43.1 Command: chmod a+r riboSeqR -R && F:\biocbuild\bbs-3.22-bioc\R\bin\R.exe CMD build --keep-empty-dirs --no-resave-data riboSeqR StartedAt: 2025-08-14 22:47:13 -0400 (Thu, 14 Aug 2025) EndedAt: 2025-08-14 22:48:12 -0400 (Thu, 14 Aug 2025) EllapsedTime: 58.9 seconds RetCode: 0 Status: OK PackageFile: riboSeqR_1.43.1.tar.gz PackageFileSize: 3.65 MiB