Package: riboSeqR Version: 1.41.0 Command: /Library/Frameworks/R.framework/Resources/bin/R CMD INSTALL riboSeqR StartedAt: 2025-02-02 15:16:14 -0500 (Sun, 02 Feb 2025) EndedAt: 2025-02-02 15:16:33 -0500 (Sun, 02 Feb 2025) EllapsedTime: 18.7 seconds RetCode: 0 Status: OK