Package: riboSeqR Version: 1.43.0 Command: rm -rf riboSeqR.buildbin-libdir && mkdir riboSeqR.buildbin-libdir && /Users/biocbuild/BBS/utils/build-universal.sh riboSeqR_1.43.0.tar.gz /Library/Frameworks/R.framework/Resources/bin/R riboSeqR.buildbin-libdir StartedAt: 2025-04-30 22:48:21 -0400 (Wed, 30 Apr 2025) EndedAt: 2025-04-30 22:48:28 -0400 (Wed, 30 Apr 2025) EllapsedTime: 7.1 seconds RetCode: 0 Status: OK PackageFile: riboSeqR_1.43.0.tgz PackageFileSize: 3.949 MiB