Package: riboSeqR Version: 1.43.0 Maintainer: Samuel Granjeaud MaintainerEmail: samuel.granjeaud at inserm.fr git_url: https://git.bioconductor.org/packages/riboSeqR git_branch: devel git_last_commit: 09c2a94 git_last_commit_date: 2025-04-15 10:32:05 -0400 (Tue, 15 Apr 2025)