Package: rhdf5 Version: 2.53.4 Command: chmod a+r rhdf5 -R && F:\biocbuild\bbs-3.22-bioc\R\bin\R.exe CMD build --keep-empty-dirs --no-resave-data rhdf5 StartedAt: 2025-08-14 22:45:41 -0400 (Thu, 14 Aug 2025) EndedAt: 2025-08-14 22:49:00 -0400 (Thu, 14 Aug 2025) EllapsedTime: 198.8 seconds RetCode: 0 Status: OK PackageFile: rhdf5_2.53.4.tar.gz PackageFileSize: 1.203 MiB