Package: rhdf5 Version: 2.53.0 Command: /Library/Frameworks/R.framework/Resources/bin/R CMD check --install=check:rhdf5.install-out.txt --library=/Library/Frameworks/R.framework/Resources/library --no-vignettes --timings rhdf5_2.53.0.tar.gz StartedAt: 2025-05-02 23:00:40 -0400 (Fri, 02 May 2025) EndedAt: 2025-05-02 23:01:39 -0400 (Fri, 02 May 2025) EllapsedTime: 59.4 seconds RetCode: 0 Status: WARNINGS CheckDir: rhdf5.Rcheck Warnings: 1