Package: rhdf5 Version: 2.51.2 Command: /home/biocbuild/R/R/bin/R CMD build --keep-empty-dirs --no-resave-data rhdf5 StartedAt: 2025-01-29 01:40:30 -0000 (Wed, 29 Jan 2025) EndedAt: 2025-01-29 01:47:14 -0000 (Wed, 29 Jan 2025) EllapsedTime: 403.3 seconds RetCode: 1 Status: ERROR PackageFile: None PackageFileSize: NA